BEGIN:VCALENDAR
VERSION:2.0
PRODID:-//Farima Dance - ECPv6.15.20//NONSGML v1.0//EN
CALSCALE:GREGORIAN
METHOD:PUBLISH
X-ORIGINAL-URL:https://farimadance.com
X-WR-CALDESC:Events for Farima Dance
REFRESH-INTERVAL;VALUE=DURATION:PT1H
X-Robots-Tag:noindex
X-PUBLISHED-TTL:PT1H
BEGIN:VTIMEZONE
TZID:America/Los_Angeles
BEGIN:DAYLIGHT
TZOFFSETFROM:-0800
TZOFFSETTO:-0700
TZNAME:PDT
DTSTART:20220313T100000
END:DAYLIGHT
BEGIN:STANDARD
TZOFFSETFROM:-0700
TZOFFSETTO:-0800
TZNAME:PST
DTSTART:20221106T090000
END:STANDARD
BEGIN:DAYLIGHT
TZOFFSETFROM:-0800
TZOFFSETTO:-0700
TZNAME:PDT
DTSTART:20230312T100000
END:DAYLIGHT
BEGIN:STANDARD
TZOFFSETFROM:-0700
TZOFFSETTO:-0800
TZNAME:PST
DTSTART:20231105T090000
END:STANDARD
BEGIN:DAYLIGHT
TZOFFSETFROM:-0800
TZOFFSETTO:-0700
TZNAME:PDT
DTSTART:20240310T100000
END:DAYLIGHT
BEGIN:STANDARD
TZOFFSETFROM:-0700
TZOFFSETTO:-0800
TZNAME:PST
DTSTART:20241103T090000
END:STANDARD
END:VTIMEZONE
BEGIN:VEVENT
DTSTART;TZID=America/Los_Angeles:20231217T110000
DTEND;TZID=America/Los_Angeles:20231217T123000
DTSTAMP:20260421T194001
CREATED:20231121T232848Z
LAST-MODIFIED:20240121T011928Z
UID:30739-1702810800-1702816200@farimadance.com
SUMMARY:Christmas and its Ancient Persian Tradition
DESCRIPTION:A Lecture by Scholar and Ethnologist\, Dr. Farima Berenji\nWe have always known of Christmas on December 25th\, with a traditional decorated tree\, candles\, and gifts. Christmas celebrates the birth of Christ yet its rituals and traditions far precede that time. Unquestionably\, our ancestors adopted the rituals from an ancient Iranian pagan religion known as Mithraism\, a form of nature worship based on the Sun God/Goddess Mithra. \nOn the darkest night of the year (December 20 or 21) legend has it Mithra gives birth to “Light” causing each day thereafter to grow longer until the Summer solstice. In this lecture learn of the remarkable parallels between ancient Mithraism beliefs and rituals to those of Christmas today. \nHosted by the Center for Creative Living\, the program starts at 11am with a song\, prayer\, meditation\, and announcements. Farima will be introduced and speak 30 to 40 minutes. A sacred dance performance will follow in honor of light. \nPark in the Billy DeFrank LGBTQ+ Center parking lot and enter through the gate in the back. Do not go to the front door. \nThe program will be broadcast on Zoom. Please join or register using the following invitation: \nJoin by Zoom\nMeeting ID: 217 611 8333\nPasscode: 812753 \nPlease remember to send a donation to the Center for Creative Living so they can keep the doors open. More details… \nFarima Berenji\nFarima Berenji Farima Berenji has an MA in Anthropology/Archaeology\, MA in Iranian dance ethnology both from Cal State Hayward\, and an M.Msc. and a PhD from the University of Sedona in Iranian metaphysics and mysticism\, specializing in Iranian mystic traditions\, Sufism\, and women’s mystic rituals. She is an award winning\, internationally acclaimed performing artist\, choreographer and has been recognized as one of the few world scholars of ancient and mystical Iranian dance ethnology. She is honored to be the first Iranian woman to direct a Persian dance company to perform during receptions for President Obama and President Biden\, the EU\, and the UN. Farima is the founder and artistic director of the Simorgh Dance Collective\, Assistant Director and Program Director of Eastern Arts\, founder of Dance of the SoulTM\, advisory council member of Mosaic America\, a member of the International Dance Council (CID-UNESCO)\, National Folk Organization member\, and the first Iranian-American woman TEDx lecturer and performer in the field of dance. She has excelled in artistic and innovative forms of cultural preservation and has been recognized by the international press. Recognized as one of the few world scholarly experts of ancient and mystical dance ethnology\, she travels worldwide to research\, lecture\, perform\, educate\, and inspire dynamic creativity and rejuvenation through dance and movement. Visit her online at http://farimadance.com.\nRead more…
URL:https://farimadance.com/event/xmas23-persian-origins/
LOCATION:Billy DeFrank LGBTQ+ Community Center\, 938 The Alameda\, San Jose\, CA\, 95126\, United States
CATEGORIES:Lecture,Online,Performance
ATTACH;FMTTYPE=image/jpeg:https://farimadance.com/wp-content/uploads/2023/11/Xmas2023-1.jpg
ORGANIZER;CN="Center for Creative Living":MAILTO:safecorky@aol.com
END:VEVENT
END:VCALENDAR