BEGIN:VCALENDAR
VERSION:2.0
PRODID:-//Farima Dance - ECPv6.15.20//NONSGML v1.0//EN
CALSCALE:GREGORIAN
METHOD:PUBLISH
X-WR-CALNAME:Farima Dance
X-ORIGINAL-URL:https://farimadance.com
X-WR-CALDESC:Events for Farima Dance
REFRESH-INTERVAL;VALUE=DURATION:PT1H
X-Robots-Tag:noindex
X-PUBLISHED-TTL:PT1H
BEGIN:VTIMEZONE
TZID:America/Los_Angeles
BEGIN:DAYLIGHT
TZOFFSETFROM:-0800
TZOFFSETTO:-0700
TZNAME:PDT
DTSTART:20210314T100000
END:DAYLIGHT
BEGIN:STANDARD
TZOFFSETFROM:-0700
TZOFFSETTO:-0800
TZNAME:PST
DTSTART:20211107T090000
END:STANDARD
BEGIN:DAYLIGHT
TZOFFSETFROM:-0800
TZOFFSETTO:-0700
TZNAME:PDT
DTSTART:20220313T100000
END:DAYLIGHT
BEGIN:STANDARD
TZOFFSETFROM:-0700
TZOFFSETTO:-0800
TZNAME:PST
DTSTART:20221106T090000
END:STANDARD
BEGIN:DAYLIGHT
TZOFFSETFROM:-0800
TZOFFSETTO:-0700
TZNAME:PDT
DTSTART:20230312T100000
END:DAYLIGHT
BEGIN:STANDARD
TZOFFSETFROM:-0700
TZOFFSETTO:-0800
TZNAME:PST
DTSTART:20231105T090000
END:STANDARD
END:VTIMEZONE
BEGIN:VEVENT
DTSTART;TZID=America/Los_Angeles:20221016T100000
DTEND;TZID=America/Los_Angeles:20221016T113000
DTSTAMP:20260422T220453
CREATED:20221005T054340Z
LAST-MODIFIED:20221105T001421Z
UID:27407-1665914400-1665919800@farimadance.com
SUMMARY:Peace and Solidarity for Iran
DESCRIPTION:Join us for a free online prayer session and Sema gathering to support peace and solidarity for the people of Iran.  Guest musicians are welcome to play for whirling for peace. Please bring stories and poetry to share for peace. \nTogether we wish the people of Iran find healing and peace in the face of alarming social unrest and challenges in their country. \nSema starts: \nOctober 16\, 2022\n10:00 am – 11:30 am Pacific\n8:30 pm – 10:00 pm Tehran \nEnter by Zoom
URL:https://farimadance.com/event/peace-for-iran/
LOCATION:Online
CATEGORIES:Meditation Gathering (Sema),Online
ATTACH;FMTTYPE=image/jpeg:https://farimadance.com/wp-content/uploads/2022/10/SacredCIrcleForIran2.jpg
ORGANIZER;CN="Farima Dance":MAILTO:info@farimadance.com
END:VEVENT
BEGIN:VEVENT
DTSTART;TZID=America/Los_Angeles:20221023T100000
DTEND;TZID=America/Los_Angeles:20221023T110000
DTSTAMP:20260422T220453
CREATED:20221017T074002Z
LAST-MODIFIED:20221105T001421Z
UID:27475-1666519200-1666522800@farimadance.com
SUMMARY:Peace and Solidarity for Iran
DESCRIPTION:Join us for a free online prayer session and Sema gathering to support peace and solidarity for the people of Iran.  Guest musicians are welcome to play for whirling for peace. Please bring stories and poetry to share for peace. \nTogether we wish the people of Iran find healing and peace in the face of alarming social unrest and challenges in their country. \nSema starts: \nSundays October 2022\n10:00 am – 11:00 am Pacific\n8:30 pm – 9:30 pm Tehran \nEnter by Zoom
URL:https://farimadance.com/event/peace-for-iran2/
LOCATION:Online
CATEGORIES:Meditation Gathering (Sema),Online
ATTACH;FMTTYPE=image/jpeg:https://farimadance.com/wp-content/uploads/2022/10/SacredCIrcleForIran2.jpg
ORGANIZER;CN="Farima Dance":MAILTO:info@farimadance.com
END:VEVENT
BEGIN:VEVENT
DTSTART;TZID=America/Los_Angeles:20221030T100000
DTEND;TZID=America/Los_Angeles:20221030T110000
DTSTAMP:20260422T220453
CREATED:20221017T074036Z
LAST-MODIFIED:20221105T001421Z
UID:27478-1667124000-1667127600@farimadance.com
SUMMARY:Peace and Solidarity for Iran
DESCRIPTION:Join us for a free online prayer session and Sema gathering to support peace and solidarity for the people of Iran.  Guest musicians are welcome to play for whirling for peace. Please bring stories and poetry to share for peace. \nTogether we wish the people of Iran find healing and peace in the face of alarming social unrest and challenges in their country. \nSema starts: \nSundays October 2022\n10:00 am – 11:00 am Pacific\n8:30 pm – 9:30 pm Tehran \nEnter by Zoom
URL:https://farimadance.com/event/peace-for-iran3/
LOCATION:Online
CATEGORIES:Meditation Gathering (Sema),Online
ATTACH;FMTTYPE=image/jpeg:https://farimadance.com/wp-content/uploads/2022/10/SacredCIrcleForIran4.jpg
ORGANIZER;CN="Farima Dance":MAILTO:info@farimadance.com
END:VEVENT
END:VCALENDAR