BEGIN:VCALENDAR
VERSION:2.0
PRODID:-//Farima Dance - ECPv6.15.20//NONSGML v1.0//EN
CALSCALE:GREGORIAN
METHOD:PUBLISH
X-ORIGINAL-URL:https://farimadance.com
X-WR-CALDESC:Events for Farima Dance
REFRESH-INTERVAL;VALUE=DURATION:PT1H
X-Robots-Tag:noindex
X-PUBLISHED-TTL:PT1H
BEGIN:VTIMEZONE
TZID:America/Los_Angeles
BEGIN:DAYLIGHT
TZOFFSETFROM:-0800
TZOFFSETTO:-0700
TZNAME:PDT
DTSTART:20230312T100000
END:DAYLIGHT
BEGIN:STANDARD
TZOFFSETFROM:-0700
TZOFFSETTO:-0800
TZNAME:PST
DTSTART:20231105T090000
END:STANDARD
BEGIN:DAYLIGHT
TZOFFSETFROM:-0800
TZOFFSETTO:-0700
TZNAME:PDT
DTSTART:20240310T100000
END:DAYLIGHT
BEGIN:STANDARD
TZOFFSETFROM:-0700
TZOFFSETTO:-0800
TZNAME:PST
DTSTART:20241103T090000
END:STANDARD
BEGIN:DAYLIGHT
TZOFFSETFROM:-0800
TZOFFSETTO:-0700
TZNAME:PDT
DTSTART:20250309T100000
END:DAYLIGHT
BEGIN:STANDARD
TZOFFSETFROM:-0700
TZOFFSETTO:-0800
TZNAME:PST
DTSTART:20251102T090000
END:STANDARD
BEGIN:DAYLIGHT
TZOFFSETFROM:-0800
TZOFFSETTO:-0700
TZNAME:PDT
DTSTART:20260308T100000
END:DAYLIGHT
BEGIN:STANDARD
TZOFFSETFROM:-0700
TZOFFSETTO:-0800
TZNAME:PST
DTSTART:20261101T090000
END:STANDARD
BEGIN:DAYLIGHT
TZOFFSETFROM:-0800
TZOFFSETTO:-0700
TZNAME:PDT
DTSTART:20270314T100000
END:DAYLIGHT
BEGIN:STANDARD
TZOFFSETFROM:-0700
TZOFFSETTO:-0800
TZNAME:PST
DTSTART:20271107T090000
END:STANDARD
END:VTIMEZONE
BEGIN:VEVENT
DTSTART;TZID=America/Los_Angeles:20260322T160000
DTEND;TZID=America/Los_Angeles:20260322T180000
DTSTAMP:20260420T034555
CREATED:20260301T122329Z
LAST-MODIFIED:20260301T124303Z
UID:33377-1774195200-1774202400@farimadance.com
SUMMARY:Palo Alto Art Center Family Day
DESCRIPTION:Enjoy art activities led by Art Center teaching artists and community partners. Bring the whole family for this fun\, multi-generational event and stick around until the very end for a performance organized by Mosaic America. \nSCHEDULE \n\n2 – 4:00 p.m.  Artmaking activities and community booths\n4 – 4:30 p.m.  Performance organized by Mosaic America featuring Dr. Farima Berenji and the Simorgh Dance Collective
URL:https://farimadance.com/event/paac-family-day/
LOCATION:Palo Alto Arts Center\, 1313 Newell Rd\, Palo Alto\, CA\, 94303\, United States
CATEGORIES:Festival,Performance
ATTACH;FMTTYPE=image/png:https://farimadance.com/wp-content/uploads/2026/03/28830dc8-a707-44b7-b6b7-1538bf1d9f8c.png
END:VEVENT
BEGIN:VEVENT
DTSTART;TZID=America/Los_Angeles:20260316T190000
DTEND;TZID=America/Los_Angeles:20260316T200000
DTSTAMP:20260420T034555
CREATED:20260101T155308Z
LAST-MODIFIED:20260203T145542Z
UID:33282-1773687600-1773691200@farimadance.com
SUMMARY:Celebrate Persian New Year
DESCRIPTION:Join us for a lively and educational celebration of Persian New Year\, or Nowruz. Enjoy traditional spring dances\, including circle dances\, and learn about the cultural significance behind these movements and their connection to renewal and community. \nThe program also explores the symbolism of Nowruz traditions\, including the meaning of the holiday and the traditional seven‑symbol spread. This is a welcoming opportunity to learn\, connect\, and experience one of the world’s oldest celebrations of spring. \nIncludes performances by the Simorgh Dance Collective. \nThis program is part of Santa Clara County Library District’s celebration of Silicon Valley Reads.
URL:https://farimadance.com/event/persian-new-year-cupertino/
LOCATION:Cupertino Library\, 10800 Torre Avenue\, Cupertino\, 95014\, United States
CATEGORIES:Festival,Party,Performance
ATTACH;FMTTYPE=image/png:https://farimadance.com/wp-content/uploads/2026/01/CelebratePersianNewYear.png
END:VEVENT
BEGIN:VEVENT
DTSTART;TZID=America/Los_Angeles:20260307T120000
DTEND;TZID=America/Los_Angeles:20260307T160000
DTSTAMP:20260420T034555
CREATED:20260203T144521Z
LAST-MODIFIED:20260203T144621Z
UID:33335-1772884800-1772899200@farimadance.com
SUMMARY:Women's Heritage Day
DESCRIPTION:Join us at History Park for Women’s Heritage Day on Saturday\, March 7th from 12:00 PM to 4:00 PM!\nWe’re celebrating the extraordinary stories and legacies of diverse women who have shaped San José’s rich cultural heritage. This free community event features: \n🚗 Lowrider exhibit curated by women owners\n🎨 Artisan demonstrations and hands-on crafts with National Charity League\n💼 Panel discussion with women from creative professional fields\n🎭 Cultural performances and workshops with Mosaic America \nIncludes performances by Dr. Farima Berenji and the Simorgh Dance Collective
URL:https://farimadance.com/event/womens-heritage-day/
LOCATION:San Jose History Park\, 635 Phelan Ave\, San Jose\, CA\, 95112\, United States
CATEGORIES:Festival,Performance
ATTACH;FMTTYPE=image/jpeg:https://farimadance.com/wp-content/uploads/2026/02/IMG_6796.jpg
END:VEVENT
BEGIN:VEVENT
DTSTART;TZID=America/Los_Angeles:20240322T180000
DTEND;TZID=America/Los_Angeles:20240322T193000
DTSTAMP:20260420T034555
CREATED:20240304T213538Z
LAST-MODIFIED:20240305T222204Z
UID:31490-1711130400-1711135800@farimadance.com
SUMMARY:Nowruz Persian New Year Celebration
DESCRIPTION:Join the Persian New Year (Nowruz) celebration and reception at the Benicia Public Library with sweets\, music\, poetry\, dance performances\, and more! Farima Berenji and the Simorgh Dance Collective will be performing. All ages welcome!
URL:https://farimadance.com/event/nowruz-benica/
LOCATION:Benicia Public Library\, 150 East L Street\, Benicia\, CA\, 94510\, United States
CATEGORIES:Festival,Performance
ATTACH;FMTTYPE=image/jpeg:https://farimadance.com/wp-content/uploads/2024/03/Mar-22-Libary-SF.jpeg
END:VEVENT
BEGIN:VEVENT
DTSTART;TZID=America/Los_Angeles:20240309T140000
DTEND;TZID=America/Los_Angeles:20240309T170000
DTSTAMP:20260420T034555
CREATED:20240226T195304Z
LAST-MODIFIED:20240226T195612Z
UID:31368-1709992800-1710003600@farimadance.com
SUMMARY:Nowruz Festival 2024
DESCRIPTION:Azerbaijan House in California is thrilled to host The Second International Nowruz Festival with the sponsorship of San Jose City Distict 10 Councilmember Arjun Batra on March 9th at 2pm. \nYou’re invited to a vibrant celebration of Nowruz\, where cultures unite through food\, music\, and dance! Indulge in a delicious array of traditional dishes and desserts from around the world\, accompanied by live performances that will enchant your senses. \nIncludes a performance by the Simorgh Dance Colllective and dance lessons.
URL:https://farimadance.com/event/nowruz-festival-24/
LOCATION:Seven Trees Community Center\, 3590 Cas Dr.\, San Jose\, CA\, 95111\, United States
CATEGORIES:Festival,Performance
ATTACH;FMTTYPE=image/jpeg:https://farimadance.com/wp-content/uploads/2024/02/IMG_8918-banner.jpg
END:VEVENT
END:VCALENDAR