BEGIN:VCALENDAR
VERSION:2.0
PRODID:-//Farima Dance - ECPv6.15.20//NONSGML v1.0//EN
CALSCALE:GREGORIAN
METHOD:PUBLISH
X-WR-CALNAME:Farima Dance
X-ORIGINAL-URL:https://farimadance.com
X-WR-CALDESC:Events for Farima Dance
REFRESH-INTERVAL;VALUE=DURATION:PT1H
X-Robots-Tag:noindex
X-PUBLISHED-TTL:PT1H
BEGIN:VTIMEZONE
TZID:America/Los_Angeles
BEGIN:DAYLIGHT
TZOFFSETFROM:-0800
TZOFFSETTO:-0700
TZNAME:PDT
DTSTART:20230312T100000
END:DAYLIGHT
BEGIN:STANDARD
TZOFFSETFROM:-0700
TZOFFSETTO:-0800
TZNAME:PST
DTSTART:20231105T090000
END:STANDARD
BEGIN:DAYLIGHT
TZOFFSETFROM:-0800
TZOFFSETTO:-0700
TZNAME:PDT
DTSTART:20240310T100000
END:DAYLIGHT
BEGIN:STANDARD
TZOFFSETFROM:-0700
TZOFFSETTO:-0800
TZNAME:PST
DTSTART:20241103T090000
END:STANDARD
BEGIN:DAYLIGHT
TZOFFSETFROM:-0800
TZOFFSETTO:-0700
TZNAME:PDT
DTSTART:20250309T100000
END:DAYLIGHT
BEGIN:STANDARD
TZOFFSETFROM:-0700
TZOFFSETTO:-0800
TZNAME:PST
DTSTART:20251102T090000
END:STANDARD
END:VTIMEZONE
BEGIN:VEVENT
DTSTART;TZID=America/Los_Angeles:20240309T140000
DTEND;TZID=America/Los_Angeles:20240309T170000
DTSTAMP:20260419T214558
CREATED:20240226T195304Z
LAST-MODIFIED:20240226T195612Z
UID:31368-1709992800-1710003600@farimadance.com
SUMMARY:Nowruz Festival 2024
DESCRIPTION:Azerbaijan House in California is thrilled to host The Second International Nowruz Festival with the sponsorship of San Jose City Distict 10 Councilmember Arjun Batra on March 9th at 2pm. \nYou’re invited to a vibrant celebration of Nowruz\, where cultures unite through food\, music\, and dance! Indulge in a delicious array of traditional dishes and desserts from around the world\, accompanied by live performances that will enchant your senses. \nIncludes a performance by the Simorgh Dance Colllective and dance lessons.
URL:https://farimadance.com/event/nowruz-festival-24/
LOCATION:Seven Trees Community Center\, 3590 Cas Dr.\, San Jose\, CA\, 95111\, United States
CATEGORIES:Festival,Performance
ATTACH;FMTTYPE=image/jpeg:https://farimadance.com/wp-content/uploads/2024/02/IMG_8918-banner.jpg
END:VEVENT
BEGIN:VEVENT
DTSTART;TZID=America/Los_Angeles:20240322T180000
DTEND;TZID=America/Los_Angeles:20240322T193000
DTSTAMP:20260419T214558
CREATED:20240304T213538Z
LAST-MODIFIED:20240305T222204Z
UID:31490-1711130400-1711135800@farimadance.com
SUMMARY:Nowruz Persian New Year Celebration
DESCRIPTION:Join the Persian New Year (Nowruz) celebration and reception at the Benicia Public Library with sweets\, music\, poetry\, dance performances\, and more! Farima Berenji and the Simorgh Dance Collective will be performing. All ages welcome!
URL:https://farimadance.com/event/nowruz-benica/
LOCATION:Benicia Public Library\, 150 East L Street\, Benicia\, CA\, 94510\, United States
CATEGORIES:Festival,Performance
ATTACH;FMTTYPE=image/jpeg:https://farimadance.com/wp-content/uploads/2024/03/Mar-22-Libary-SF.jpeg
END:VEVENT
END:VCALENDAR