BEGIN:VCALENDAR
VERSION:2.0
PRODID:-//Farima Dance - ECPv6.15.20//NONSGML v1.0//EN
CALSCALE:GREGORIAN
METHOD:PUBLISH
X-ORIGINAL-URL:http://farimadance.com
X-WR-CALDESC:Events for Farima Dance
REFRESH-INTERVAL;VALUE=DURATION:PT1H
X-Robots-Tag:noindex
X-PUBLISHED-TTL:PT1H
BEGIN:VTIMEZONE
TZID:America/Los_Angeles
BEGIN:DAYLIGHT
TZOFFSETFROM:-0800
TZOFFSETTO:-0700
TZNAME:PDT
DTSTART:20210314T100000
END:DAYLIGHT
BEGIN:STANDARD
TZOFFSETFROM:-0700
TZOFFSETTO:-0800
TZNAME:PST
DTSTART:20211107T090000
END:STANDARD
BEGIN:DAYLIGHT
TZOFFSETFROM:-0800
TZOFFSETTO:-0700
TZNAME:PDT
DTSTART:20220313T100000
END:DAYLIGHT
BEGIN:STANDARD
TZOFFSETFROM:-0700
TZOFFSETTO:-0800
TZNAME:PST
DTSTART:20221106T090000
END:STANDARD
BEGIN:DAYLIGHT
TZOFFSETFROM:-0800
TZOFFSETTO:-0700
TZNAME:PDT
DTSTART:20230312T100000
END:DAYLIGHT
BEGIN:STANDARD
TZOFFSETFROM:-0700
TZOFFSETTO:-0800
TZNAME:PST
DTSTART:20231105T090000
END:STANDARD
END:VTIMEZONE
BEGIN:VEVENT
DTSTART;TZID=America/Los_Angeles:20221001T193000
DTEND;TZID=America/Los_Angeles:20221001T213000
DTSTAMP:20260419T171118
CREATED:20220924T163926Z
LAST-MODIFIED:20220924T165404Z
UID:27326-1664652600-1664659800@farimadance.com
SUMMARY:Essence of Persian Dance Dinner Show
DESCRIPTION:An amazing evening dinner show of beautiful Persian and Middle Eastern Dance with Master Artist Farima Berenji and the Simorgh Dance Collective\, Nataliya Saborio with Russian Oriental Belly Dance\, and Lucia Herlinda.  \n$50 includes gourmet pizza buffet. \nReservations suggested at (858) 260-9500
URL:http://farimadance.com/event/essence-dinner-show/
LOCATION:Goli Restaurant\, 18021 Calle Ambeinte\, Suite 403\, Rancho Sante Fe\, San Diego\, CA\, 92067\, United States
CATEGORIES:Dinner and Dance Show
ATTACH;FMTTYPE=image/jpeg:http://farimadance.com/wp-content/uploads/2022/09/8U7A8590-1.jpg
ORGANIZER;CN="Farima Dance":MAILTO:info@farimadance.com
END:VEVENT
END:VCALENDAR